BEGIN:VCALENDAR
VERSION:2.0
PRODID:-//Deutscher Xiangqi Bund - ECPv5.1.2.1//NONSGML v1.0//EN
CALSCALE:GREGORIAN
METHOD:PUBLISH
X-WR-CALNAME:Deutscher Xiangqi Bund
X-ORIGINAL-URL:http://chinaschach.de/blog
X-WR-CALDESC:Veranstaltungen für Deutscher Xiangqi Bund
BEGIN:VTIMEZONE
TZID:Europe/Berlin
BEGIN:DAYLIGHT
TZOFFSETFROM:+0100
TZOFFSETTO:+0200
TZNAME:CEST
DTSTART:20180325T010000
END:DAYLIGHT
BEGIN:STANDARD
TZOFFSETFROM:+0200
TZOFFSETTO:+0100
TZNAME:CET
DTSTART:20181028T010000
END:STANDARD
END:VTIMEZONE
BEGIN:VEVENT
DTSTART;VALUE=DATE:20180817
DTEND;VALUE=DATE:20180819
DTSTAMP:20260421T102918
CREATED:20180509T205849Z
LAST-MODIFIED:20180515T062341Z
UID:327-1534464000-1534636799@chinaschach.de
SUMMARY:Finnish Championship
DESCRIPTION:<<Invitation>> \n
URL:http://chinaschach.de/blog/event/finnish-championship/
LOCATION:Helsinki\, Hiomotie 10\, Helsinki\, Finnland
END:VEVENT
END:VCALENDAR