BEGIN:VCALENDAR
VERSION:2.0
PRODID:-//Deutscher Xiangqi Bund - ECPv5.1.2.1//NONSGML v1.0//EN
CALSCALE:GREGORIAN
METHOD:PUBLISH
X-WR-CALNAME:Deutscher Xiangqi Bund
X-ORIGINAL-URL:http://chinaschach.de/blog
X-WR-CALDESC:Veranstaltungen für Deutscher Xiangqi Bund
BEGIN:VTIMEZONE
TZID:Europe/Berlin
BEGIN:DAYLIGHT
TZOFFSETFROM:+0100
TZOFFSETTO:+0200
TZNAME:CEST
DTSTART:20180325T010000
END:DAYLIGHT
BEGIN:STANDARD
TZOFFSETFROM:+0200
TZOFFSETTO:+0100
TZNAME:CET
DTSTART:20181028T010000
END:STANDARD
END:VTIMEZONE
BEGIN:VEVENT
DTSTART;TZID=Europe/Berlin:20180907T173000
DTEND;TZID=Europe/Berlin:20180907T190000
DTSTAMP:20260421T133750
CREATED:20180905T071151Z
LAST-MODIFIED:20180905T071151Z
UID:413-1536341400-1536346800@chinaschach.de
SUMMARY:Xiangqi & Ma-Jongg Abend Frankfurt
DESCRIPTION:Bibliothekszentrum Sachsenhausen \nHedderichstr. 32\nFrankfurt am Main \n<<Informationen>> \n
URL:http://chinaschach.de/blog/event/xiangqi-ma-jongg-abend-frankfurt/
END:VEVENT
END:VCALENDAR